BEGIN:VCALENDAR
VERSION:2.0
PRODID:-//wp-events-plugin.com//7.2.3.1//EN
TZID:Europe/Berlin
X-WR-TIMEZONE:Europe/Berlin
BEGIN:VEVENT
UID:220@macher-clp.de
DTSTART;TZID=Europe/Berlin:20221206T091500
DTEND;TZID=Europe/Berlin:20221206T113000
DTSTAMP:20221130T094715Z
URL:https://macher-clp.de/events/fruehstueckstreff-besinnliches-in-der-vor
 weihnachtszeit-mit-martin-kessens/
SUMMARY:Frühstückstreff - Heiteres in der Vorweihnachtszeit mit Martin Ke
 ssens
DESCRIPTION:Die TeilnehmerInnen haben beim Frühstückstreff Gelegenheit\, 
 sich über interessante\, gesellschaftliche\, religiöse\, politische und 
 gedundheitliche Themen zu informieren und darüber zu diskutieren. Ab 9:15
  Uhr gibt es ein leckeres Frühstück in netter Atmosphäre\, ab 10:00 Uhr
  folgt ein Vortrag zu einem bestimmten Thema.\nLeitung: Team\nAnmeldung zu
 m Frühstück bis 11:00 Uhr am Montag vor der Veranstaltung unter:  04471
  87688 (Büro Die Macher)\nThema: Heiteres in der Vorweihnachtszeit\nRefer
 ent: Martin Kessens
LOCATION:Die Macher\, Brandstraße 5\, Cloppenburg\, 49661\, Deutschland
X-APPLE-STRUCTURED-LOCATION;VALUE=URI;X-ADDRESS=Brandstraße 5\, Cloppenbur
 g\, 49661\, Deutschland;X-APPLE-RADIUS=100;X-TITLE=Die Macher:geo:0,0
END:VEVENT
BEGIN:VTIMEZONE
TZID:Europe/Berlin
X-LIC-LOCATION:Europe/Berlin
BEGIN:STANDARD
DTSTART:20221030T020000
TZOFFSETFROM:+0200
TZOFFSETTO:+0100
TZNAME:CET
END:STANDARD
END:VTIMEZONE
END:VCALENDAR