BEGIN:VCALENDAR
VERSION:2.0
PRODID:-//wp-events-plugin.com//7.2.3.1//EN
TZID:Europe/Berlin
X-WR-TIMEZONE:Europe/Berlin
BEGIN:VEVENT
UID:802@macher-clp.de
DTSTART;TZID=Europe/Berlin:20230620T110000
DTEND;TZID=Europe/Berlin:20230620T190000
DTSTAMP:20230606T100925Z
URL:https://macher-clp.de/events/juni-radeln-mit-horst-burckhard/
SUMMARY:Juni - Radeln  mit Horst & Burckhard
DESCRIPTION:Abfahrt:      11:00 Uhr „P“ Pingel Anton\n\nRückkehr:
    Ca. 18:00 Uhr\n\nStreckenlänge:  Ca. 57 km mit Rädern ohne Antrieb\,
  mit E-Bikes kann die Strecke auf 72 oder 85 km ausgedehnt werden.\n\nStre
 ckenführung: Bethen - Amerika - Ahlhorn - Hagel - Henefelde - Dötlingen.
  Dann für Fahrer/innen ohne Antrieb zurück nach Ahlhorn\, für E-Bike Fa
 hrer/innen gibt es 2 Alternativen.\n\nVorgesehene Pausen:\nTrinkpausen: Am
 erika und Ahlhorn und nach Bedarf\nKaffeepause: 1\,5 Stunden in Dötlingen
  im Café Heuerhaus\n\nRückfahrt ab Ahlhorn mit der DB:\nEinzelfahrschein
 e plus Fahrradkarte \n\nLeitung: Horst Kaul und Burckhard Freytäger\n\nDi
 e Teilnehmerzahl ist auf 10 Personen begrenzt\, daher ist eine Anmeldung u
 nbedingt notwendig!\n\n&nbsp\;
LOCATION:Die Macher\, Brandstraße 5\, Cloppenburg\, Deutschland
X-APPLE-STRUCTURED-LOCATION;VALUE=URI;X-ADDRESS=Brandstraße 5\, Cloppenbur
 g\, Deutschland;X-APPLE-RADIUS=100;X-TITLE=Die Macher:geo:0,0
END:VEVENT
BEGIN:VTIMEZONE
TZID:Europe/Berlin
X-LIC-LOCATION:Europe/Berlin
BEGIN:DAYLIGHT
DTSTART:20230326T030000
TZOFFSETFROM:+0100
TZOFFSETTO:+0200
TZNAME:CEST
END:DAYLIGHT
END:VTIMEZONE
END:VCALENDAR