BEGIN:VCALENDAR
VERSION:2.0
PRODID:-//wp-events-plugin.com//7.2.3.1//EN
TZID:Europe/Berlin
X-WR-TIMEZONE:Europe/Berlin
BEGIN:VEVENT
UID:2536@macher-clp.de
DTSTART;TZID=Europe/Berlin:20260423T180000
DTEND;TZID=Europe/Berlin:20260423T190000
DTSTAMP:20260326T072630Z
URL:https://macher-clp.de/events/life-kinetik-koordinationstraining-fuer-k
 oerper-und-geist-10/
SUMMARY:Koordinationstraining für Erwachsene
DESCRIPTION:Der von den Krankenkassen anerkannte Kurs umfasst 10 Trainingse
 inheiten á 60 Minuten.\nDer Kurs kann nur als Einheit gebucht werden\, ei
 ne Anmeldung ist vorab unbedingt erforderlich und erfolgt direkt beim Kur
 sleiter Martin Kessens\nunter kesstraining@gmx.de\, oder unter 04471 85067
 80.\nAlle weiteren Termine donnerstags um 18:00 Uhr\, 10 x\nOrt: Die Mache
 r\, Brandstraße 5\, 49661 Cloppenburg\nLeitung:   Martin Kessens \n(Life
  Kinetik Präventions-Coach\, Life Kinetik-\, Gedächtnis- u. Resilienztra
 iner)\n&nbsp\;
LOCATION:Die Macher\, Brandstraße 5\, Cloppenburg\, 49661\, Deutschland
X-APPLE-STRUCTURED-LOCATION;VALUE=URI;X-ADDRESS=Brandstraße 5\, Cloppenbur
 g\, 49661\, Deutschland;X-APPLE-RADIUS=100;X-TITLE=Die Macher:geo:0,0
END:VEVENT
BEGIN:VTIMEZONE
TZID:Europe/Berlin
X-LIC-LOCATION:Europe/Berlin
BEGIN:DAYLIGHT
DTSTART:20260329T030000
TZOFFSETFROM:+0100
TZOFFSETTO:+0200
TZNAME:CEST
END:DAYLIGHT
END:VTIMEZONE
END:VCALENDAR