BEGIN:VCALENDAR
VERSION:2.0
PRODID:-//wp-events-plugin.com//7.2.3.1//EN
TZID:Europe/Berlin
X-WR-TIMEZONE:Europe/Berlin
BEGIN:VEVENT
UID:2092@macher-clp.de
DTSTART;TZID=Europe/Berlin:20250213T090000
DTEND;TZID=Europe/Berlin:20250213T103000
DTSTAMP:20250206T123347Z
URL:https://macher-clp.de/events/yoga-fuer-die-aeltere-generation-60-3/
SUMMARY:Yoga für die ältere Generation 60+
DESCRIPTION:Durch regelmäßige Yoga-Praxis sollen Flexibilität\, Balance 
 und Körperwahrnehmung verbessert werden\, um die allgemeine Lebensqualit
 ät zu steigern und ein Gefühl der Entspannung und inneren Ruhe zu förde
 rn.\n\n\nLeitung: Ingeburg Schömann-Finck
LOCATION:Die Macher\, Brandstraße 5\, Cloppenburg\, 49661\, Deutschland
X-APPLE-STRUCTURED-LOCATION;VALUE=URI;X-ADDRESS=Brandstraße 5\, Cloppenbur
 g\, 49661\, Deutschland;X-APPLE-RADIUS=100;X-TITLE=Die Macher:geo:0,0
END:VEVENT
BEGIN:VTIMEZONE
TZID:Europe/Berlin
X-LIC-LOCATION:Europe/Berlin
BEGIN:STANDARD
DTSTART:20241027T020000
TZOFFSETFROM:+0200
TZOFFSETTO:+0100
TZNAME:CET
END:STANDARD
END:VTIMEZONE
END:VCALENDAR